BEGIN:VCALENDAR
PRODID:-//kirchenweb.ch gmbh//veranstaltungsausgabe v2.0//DE
VERSION:2.0
METHOD:PUBLISH
BEGIN:VEVENT
DTSTART:20260522T123000Z
DTEND:20260522T133000Z
LOCATION:Alters- und Pflegeheim Dietenrain\, Dietenrainweg 15\, 8610 Uster
TRANSP:OPAQUE
SEQUENCE:0
UID:34225-veranstaltung@refuster.ch
DTSTAMP:20260413T105838Z
DESCRIPTION:\n\nKontakt: Béatrice Spörri\n\nWeitere Infos:
  https://www.refuster.ch/veranstaltung/34225
SUMMARY:Dietenrain
PRIORITY:5
X-MICROSOFT-CDO-IMPORTANCE:1
CLASS:PUBLIC
END:VEVENT
END:VCALENDAR
