BEGIN:VCALENDAR
PRODID:-//kirchenweb.ch gmbh//veranstaltungsausgabe v2.0//DE
VERSION:2.0
METHOD:PUBLISH
BEGIN:VEVENT
DTSTART:20260522T140000Z
DTEND:20260522T150000Z
LOCATION:Alters- und Pflegeheim Im Grund\, Wagerenstr. 20\, 8610 Uster
TRANSP:OPAQUE
SEQUENCE:0
UID:34224-veranstaltung@refuster.ch
DTSTAMP:20260413T105902Z
DESCRIPTION:\n\nKontakt: Pfrn. Pascale Rondez\n\nWeitere Infos:
  https://www.refuster.ch/veranstaltung/34224
SUMMARY:Gottesdienst Im Grund
PRIORITY:5
X-MICROSOFT-CDO-IMPORTANCE:1
CLASS:PUBLIC
END:VEVENT
END:VCALENDAR
