BEGIN:VCALENDAR
PRODID:-//kirchenweb.ch gmbh//veranstaltungsausgabe v2.0//DE
VERSION:2.0
METHOD:PUBLISH
BEGIN:VEVENT
DTSTART:20260619T170000Z
DTEND:20260619T191500Z
LOCATION:Kirchgemeindehaus Kreuz\, Zentralstrasse 40\, 8610 Uster
TRANSP:OPAQUE
SEQUENCE:0
UID:34204-veranstaltung@refuster.ch
DTSTAMP:20260417T071048Z
DESCRIPTION:Getanzt~beten lädt zu meditativem Tanzen ein. \nMit Schritten
  und Gebärden\, mit dem ganzen Körper\, sich auf Gott ausrichten.\nDiese
  Art von Kommunikation mit Gott fördert das "ganz gegenwärtig sein".
 \nGetanzt-beten ist eine Einladung\, sich gemeinsam auf diesen Weg
  einzulassen.\n\nEs sind keine Vorkenntnisse notwendig.\nEs wird ein
  freiwilliger Unkostenbeitrag erhoben.\n\nKontakt und Leitung\nElsbeth
  Müller\nrundum@lilyrose-mueller.ch\n078 961 0274\n\nKontakt:
  beatrice.schulte@refuster.ch\n\nWeitere Infos:
  https://www.refuster.ch/veranstaltung/34204
SUMMARY:getanzt~beten~getanzt
PRIORITY:5
X-MICROSOFT-CDO-IMPORTANCE:1
CLASS:PUBLIC
END:VEVENT
END:VCALENDAR
