BEGIN:VCALENDAR
PRODID:-//kirchenweb.ch gmbh//veranstaltungsausgabe v2.0//DE
VERSION:2.0
METHOD:PUBLISH
BEGIN:VEVENT
DTSTART:20260518T165500Z
DTEND:20260518T180000Z
LOCATION:Reformierte Kirche Uster\, Zentralstrasse 41\, 8610 Uster
TRANSP:OPAQUE
SEQUENCE:0
UID:34186-veranstaltung@refuster.ch
DTSTAMP:20260331T113930Z
DESCRIPTION:Wir laden alle herzlich ein\, die eine Form des meditativen
  Gebets gemeinsam mit anderen im Kreis praktizieren und üben möchten.
  Die Stunde wird jeweils von jemandem aus unserem Team angeleitet. Zweimal
  Sitzen (je ca. 20 Minuten)\, dazwischen fünf Minuten Gehen\, alles im
  Schweigen\, eingerahmt von zwei Liedern und einleitenden Texten.\n
 \nTreffen im Saal des Pfarreizentrums St. Andreas )\n\n               
  14.4\n\n• Sitzbänkchen und Stühle sind vorhanden.\n• Am 06.04.2026
  fällt das Sitzen aus (Ostermontag) und am 20.04 und 27.04
  (Frühlingsferien)\n\nTreffen in der reformierten Kirche\n\n4.5 / 11.5 /
  18.5 / 1.6  / 8.6 / 15.6 / 22.6 / 29.6 / 6.7\n\n• Sitzbänkchen und
  Stühle sind vorhanden.\n• In der Kirche kann es kühl sein (warme
  Kleider)\n• Am 25.6 fällt das Sitzen aus (Pfingstmontag) \n• Ab 13.7
  Sommerferien; Wiederbeginn 18.8.2026\n\n\nEs braucht keine Anmeldung -das
  Angebot ist kostenlos.\nFür alle die ein erstes Mal  kommen und
  schnuppern möchten\, ist es empfehlenswert\, sich vorgängig bei Marcel
  Peterhans\, 079 236 97 44\, marcel.peterhans@pfarrei-uster.ch. oder bei
  einem der Teammitglieder zu informieren.\n\nTeam: Simone Joerin Fux\,
  Markus Leuenberger und Marcel Peterhans\n\n\n\nKontakt: Matthias Rüsch
 \nMarcel Peterhans\n\nWeitere Infos:
  https://www.refuster.ch/veranstaltung/34186
SUMMARY:Schritte in die Stille
PRIORITY:5
X-MICROSOFT-CDO-IMPORTANCE:1
CLASS:PUBLIC
END:VEVENT
END:VCALENDAR
