BEGIN:VCALENDAR
PRODID:-//kirchenweb.ch gmbh//veranstaltungsausgabe v2.0//DE
VERSION:2.0
METHOD:PUBLISH
BEGIN:VEVENT
DTSTART:20260601T170000Z
DTEND:20260601T183000Z
LOCATION:Altes Pfarrhaus\, Zentralstrasse 38\, 8610 Uster
TRANSP:OPAQUE
SEQUENCE:0
UID:33962-veranstaltung@refuster.ch
DTSTAMP:20260316T121637Z
DESCRIPTION:Kontakt: Matthias Rüsch\n\nWeitere Infos:
  https://www.refuster.ch/veranstaltung/33962
SUMMARY:Autorenlesung im Glaskubus
PRIORITY:5
X-MICROSOFT-CDO-IMPORTANCE:1
CLASS:PUBLIC
END:VEVENT
END:VCALENDAR
