BEGIN:VCALENDAR
PRODID:-//kirchenweb.ch gmbh//veranstaltungsausgabe v2.0//DE
VERSION:2.0
METHOD:PUBLISH
BEGIN:VEVENT
DTSTART:20270322T180000Z
DTEND:20270322T190000Z
LOCATION:Reformierte Kirche Uster\, Zentralstrasse 41\, 8610 Uster
TRANSP:OPAQUE
SEQUENCE:0
UID:33930-veranstaltung@refuster.ch
DTSTAMP:20260306T095129Z
DESCRIPTION:\n\nKontakt: verwaltung.refuster@refuster.ch\n\nWeitere Infos:
  https://www.refuster.ch/veranstaltung/33930
SUMMARY:musikal. Passionsandacht
PRIORITY:5
X-MICROSOFT-CDO-IMPORTANCE:1
CLASS:PUBLIC
END:VEVENT
END:VCALENDAR
