BEGIN:VCALENDAR
PRODID:-//kirchenweb.ch gmbh//veranstaltungsausgabe v2.0//DE
VERSION:2.0
METHOD:PUBLISH
BEGIN:VEVENT
DTSTART:20261220T170000Z
DTEND:20261220T180000Z
LOCATION:Reformierte Kirche Uster\, Zentralstrasse 41\, 8610 Uster
TRANSP:OPAQUE
SEQUENCE:0
UID:33928-veranstaltung@refuster.ch
DTSTAMP:20260306T094120Z
DESCRIPTION:Kontakt: Peter Freitag\n\nWeitere Infos:
  https://www.refuster.ch/veranstaltung/33928
SUMMARY:Sing-Weihnacht
PRIORITY:5
X-MICROSOFT-CDO-IMPORTANCE:1
CLASS:PUBLIC
END:VEVENT
END:VCALENDAR
