BEGIN:VCALENDAR
PRODID:-//kirchenweb.ch gmbh//veranstaltungsausgabe v2.0//DE
VERSION:2.0
METHOD:PUBLISH
BEGIN:VEVENT
DTSTART:20270619T151500Z
DTEND:20270619T161500Z
LOCATION:Klairs Vereinslokal\, Bühlstrasse 16\, 8606 Nänikon
TRANSP:OPAQUE
SEQUENCE:0
UID:33914-veranstaltung@refuster.ch
DTSTAMP:20260306T081039Z
DESCRIPTION:Apéro im Anschluss\n\n\n\nKontakt: Pfrn. Pascale Rondez\n
 \nWeitere Infos: https://www.refuster.ch/veranstaltung/33914
SUMMARY:nänikergottesdienst am samstagabend
PRIORITY:5
X-MICROSOFT-CDO-IMPORTANCE:1
CLASS:PUBLIC
END:VEVENT
END:VCALENDAR
