BEGIN:VCALENDAR
PRODID:-//kirchenweb.ch gmbh//veranstaltungsausgabe v2.0//DE
VERSION:2.0
METHOD:PUBLISH
BEGIN:VEVENT
DTSTART:20270313T161500Z
DTEND:20270313T171500Z
LOCATION:Schulhaus Gschwader\, Seiteneingang\, Gschwaderstrasse 70\, 8610
  Uster
TRANSP:OPAQUE
SEQUENCE:0
UID:33901-veranstaltung@refuster.ch
DTSTAMP:20260306T141232Z
DESCRIPTION:Kontakt: Pfrn. Lilly Wyser\n\nWeitere Infos:
  https://www.refuster.ch/veranstaltung/33901
SUMMARY:Abendgottesdienst Gschwader
PRIORITY:5
X-MICROSOFT-CDO-IMPORTANCE:1
CLASS:PUBLIC
END:VEVENT
END:VCALENDAR
