BEGIN:VCALENDAR
PRODID:-//kirchenweb.ch gmbh//veranstaltungsausgabe v2.0//DE
VERSION:2.0
METHOD:PUBLISH
BEGIN:VEVENT
DTSTART:20261218T160000Z
DTEND:20261218T170000Z
LOCATION:im Sprützehüüsli\, \,
TRANSP:OPAQUE
SEQUENCE:0
UID:33890-veranstaltung@refuster.ch
DTSTAMP:20260306T092305Z
DESCRIPTION:Kontakt: Pfr. Matthias Rüsch\n\nWeitere Infos:
  https://www.refuster.ch/veranstaltung/33890
SUMMARY:Niederust. Weihnachtsfeier
PRIORITY:5
X-MICROSOFT-CDO-IMPORTANCE:1
CLASS:PUBLIC
END:VEVENT
END:VCALENDAR
