BEGIN:VCALENDAR
PRODID:-//kirchenweb.ch gmbh//veranstaltungsausgabe v2.0//DE
VERSION:2.0
METHOD:PUBLISH
BEGIN:VEVENT
DTSTART:20261212T161500Z
DTEND:20261212T171500Z
LOCATION:Klairs Vereinslokal\, Bühlstrasse 16\, 8606 Nänikon
TRANSP:OPAQUE
SEQUENCE:0
UID:33888-veranstaltung@refuster.ch
DTSTAMP:20260304T165047Z
DESCRIPTION:Kontakt: Pfr. Matthias Rüsch\n\nWeitere Infos:
  https://www.refuster.ch/veranstaltung/33888
SUMMARY:nänikergottesdienst adventsgottesdienst
PRIORITY:5
X-MICROSOFT-CDO-IMPORTANCE:1
CLASS:PUBLIC
END:VEVENT
END:VCALENDAR
