BEGIN:VCALENDAR
PRODID:-//kirchenweb.ch gmbh//veranstaltungsausgabe v2.0//DE
VERSION:2.0
METHOD:PUBLISH
BEGIN:VEVENT
DTSTART:20261231T160000Z
DTEND:20261231T170000Z
LOCATION:Reformierte Kirche Uster\, Zentralstrasse 41\, 8610 Uster
TRANSP:OPAQUE
SEQUENCE:0
UID:33875-veranstaltung@refuster.ch
DTSTAMP:20260304T162129Z
DESCRIPTION:je nach Witterung: Apéro oder Chilekafi\n\n
 \nhttps://www.refuster.ch/Gemeindegottesdienst\n\n\nKontakt: Pfrn. Bettina
  Wiesendanger\n\nWeitere Infos:
  https://www.refuster.ch/veranstaltung/33875
SUMMARY:Ökum. Silvester-Gottesdienst
PRIORITY:5
X-MICROSOFT-CDO-IMPORTANCE:1
CLASS:PUBLIC
END:VEVENT
END:VCALENDAR
