BEGIN:VCALENDAR
PRODID:-//kirchenweb.ch gmbh//veranstaltungsausgabe v2.0//DE
VERSION:2.0
METHOD:PUBLISH
BEGIN:VEVENT
DTSTART:20261122T180000Z
DTEND:20261122T190000Z
LOCATION:Reformierte Kirche Uster\, Zentralstrasse 39\, 8610 Uster
TRANSP:OPAQUE
SEQUENCE:0
UID:33874-veranstaltung@refuster.ch
DTSTAMP:20260304T161626Z
DESCRIPTION:.https://www.refuster.ch/taize\n\nKontakt: Bettina
  Wiesendanger\n\nWeitere Infos:
  https://www.refuster.ch/veranstaltung/33874
SUMMARY:Taizéfeier
PRIORITY:5
X-MICROSOFT-CDO-IMPORTANCE:1
CLASS:PUBLIC
END:VEVENT
END:VCALENDAR
