BEGIN:VCALENDAR
PRODID:-//kirchenweb.ch gmbh//veranstaltungsausgabe v2.0//DE
VERSION:2.0
METHOD:PUBLISH
BEGIN:VEVENT
DTSTART:20270327T150000Z
DTEND:20270327T160000Z
LOCATION:Reformierte Kirche Uster\, Zentralstrasse 39\, 8610 Uster
TRANSP:OPAQUE
SEQUENCE:0
UID:33870-veranstaltung@refuster.ch
DTSTAMP:20260306T095226Z
DESCRIPTION:Kontakt: Pfrn. Manuela Schäfer\n\nWeitere Infos:
  https://www.refuster.ch/veranstaltung/33870
SUMMARY:Osterfeier für Gross und Klein
PRIORITY:5
X-MICROSOFT-CDO-IMPORTANCE:1
CLASS:PUBLIC
END:VEVENT
END:VCALENDAR
