BEGIN:VCALENDAR
PRODID:-//kirchenweb.ch gmbh//veranstaltungsausgabe v2.0//DE
VERSION:2.0
METHOD:PUBLISH
BEGIN:VEVENT
DTSTART:20270214T180000Z
DTEND:20270214T190000Z
LOCATION:Reformierte Kirche Uster\, Zentralstrasse 41\, 8610 Uster
TRANSP:OPAQUE
SEQUENCE:0
UID:33868-veranstaltung@refuster.ch
DTSTAMP:20260306T082903Z
DESCRIPTION:Kontakt: Pfrn. Manuela Schäfer\n\nWeitere Infos:
  https://www.refuster.ch/veranstaltung/33868
SUMMARY:Valentinsfeier
PRIORITY:5
X-MICROSOFT-CDO-IMPORTANCE:1
CLASS:PUBLIC
END:VEVENT
END:VCALENDAR
