BEGIN:VCALENDAR
PRODID:-//kirchenweb.ch gmbh//veranstaltungsausgabe v2.0//DE
VERSION:2.0
METHOD:PUBLISH
BEGIN:VEVENT
DTSTART:20261108T180000Z
DTEND:20261108T190000Z
LOCATION:Reformierte Kirche Uster\, Zentralstrasse 39\, 8610 Uster
TRANSP:OPAQUE
SEQUENCE:0
UID:33851-veranstaltung@refuster.ch
DTSTAMP:20260304T151409Z
DESCRIPTION:Kontakt: Bettina Wiesendanger\n\nWeitere Infos:
  https://www.refuster.ch/veranstaltung/33851
SUMMARY:Segensfeier
PRIORITY:5
X-MICROSOFT-CDO-IMPORTANCE:1
CLASS:PUBLIC
END:VEVENT
END:VCALENDAR
