BEGIN:VCALENDAR
PRODID:-//kirchenweb.ch gmbh//veranstaltungsausgabe v2.0//DE
VERSION:2.0
METHOD:PUBLISH
BEGIN:VEVENT
DTSTART:20261024T151500Z
DTEND:20261024T161500Z
LOCATION:Schulhaus Gschwader\, Seiteneingang\, Gschwaderstrasse 70\, 8610
  Uster
TRANSP:OPAQUE
SEQUENCE:0
UID:33845-veranstaltung@refuster.ch
DTSTAMP:20260304T172456Z
DESCRIPTION:Kontakt: Manuela Schäfer\n\nWeitere Infos:
  https://www.refuster.ch/veranstaltung/33845
SUMMARY:Abendgottesdienst Gschwader
PRIORITY:5
X-MICROSOFT-CDO-IMPORTANCE:1
CLASS:PUBLIC
END:VEVENT
END:VCALENDAR
