BEGIN:VCALENDAR
PRODID:-//kirchenweb.ch gmbh//veranstaltungsausgabe v2.0//DE
VERSION:2.0
METHOD:PUBLISH
BEGIN:VEVENT
DTSTART:20261002T170000Z
DTEND:20261002T180000Z
LOCATION:Schulhaus Sulzbach\, Oberdorfstrasse 14\, 8614 Sulzbach
TRANSP:OPAQUE
SEQUENCE:0
UID:33841-veranstaltung@refuster.ch
DTSTAMP:20260304T104320Z
DESCRIPTION:Kontakt: verwaltung.refuster@refuster.ch\n\nWeitere Infos:
  https://www.refuster.ch/veranstaltung/33841
SUMMARY:Abendgottesdienst Sulzbach
PRIORITY:5
X-MICROSOFT-CDO-IMPORTANCE:1
CLASS:PUBLIC
END:VEVENT
END:VCALENDAR
