BEGIN:VCALENDAR
PRODID:-//kirchenweb.ch gmbh//veranstaltungsausgabe v2.0//DE
VERSION:2.0
METHOD:PUBLISH
BEGIN:VEVENT
DTSTART:20260927T170000Z
DTEND:20260927T180000Z
LOCATION:Reformierte Kirche Uster\, Zentralstrasse 39\, 8610 Uster
TRANSP:OPAQUE
SEQUENCE:0
UID:33840-veranstaltung@refuster.ch
DTSTAMP:20260304T103900Z
DESCRIPTION:.https://www.refuster.ch/taize\n\nKontakt: Bettina
  Wiesendanger\n\nWeitere Infos:
  https://www.refuster.ch/veranstaltung/33840
SUMMARY:Taizéfeier
PRIORITY:5
X-MICROSOFT-CDO-IMPORTANCE:1
CLASS:PUBLIC
END:VEVENT
END:VCALENDAR
