BEGIN:VCALENDAR
PRODID:-//kirchenweb.ch gmbh//veranstaltungsausgabe v2.0//DE
VERSION:2.0
METHOD:PUBLISH
BEGIN:VEVENT
DTSTART:20260926T151500Z
DTEND:20260926T161500Z
LOCATION:Schulhaus Gschwader\, Seiteneingang\, Gschwaderstrasse 70\, 8610
  Uster
TRANSP:OPAQUE
SEQUENCE:0
UID:33837-veranstaltung@refuster.ch
DTSTAMP:20260304T103153Z
DESCRIPTION:Kontakt: Pfrn. Sabine Stückelberger\n\nWeitere Infos:
  https://www.refuster.ch/veranstaltung/33837
SUMMARY:Abendgottesdienst Gschwader
PRIORITY:5
X-MICROSOFT-CDO-IMPORTANCE:1
CLASS:PUBLIC
END:VEVENT
END:VCALENDAR
