BEGIN:VCALENDAR
PRODID:-//kirchenweb.ch gmbh//veranstaltungsausgabe v2.0//DE
VERSION:2.0
METHOD:PUBLISH
BEGIN:VEVENT
DTSTART:20260830T080000Z
DTEND:20260830T090000Z
LOCATION:Reformierte Kirche Uster\, Zentralstrasse 41\, 8610 Uster
TRANSP:OPAQUE
SEQUENCE:0
UID:33832-veranstaltung@refuster.ch
DTSTAMP:20260324T211048Z
DESCRIPTION:Im Anschluss Chilefäscht mit Mittagessen\, Überraschungen
  u.v.m.\n\nhttps://www.youtube.com/channel/UC-IpHezTIP50KgeMFogqYjA\n
 \nhttps://www.refuster.ch/Gemeindegottesdienst\n\n\nKontakt: Pfrn. Sabine
  Stückelberger\n\nWeitere Infos:
  https://www.refuster.ch/veranstaltung/33832
SUMMARY:Gottesdienst zum Chilefäscht
PRIORITY:5
X-MICROSOFT-CDO-IMPORTANCE:1
CLASS:PUBLIC
END:VEVENT
END:VCALENDAR
