BEGIN:VCALENDAR
PRODID:-//kirchenweb.ch gmbh//veranstaltungsausgabe v2.0//DE
VERSION:2.0
METHOD:PUBLISH
BEGIN:VEVENT
DTSTART:20260411T080000Z
DTEND:20260411T130000Z
LOCATION:Reformierte Kirche Uster\, Zentralstrasse 41\, 8610 Uster
TRANSP:OPAQUE
SEQUENCE:0
UID:33722-veranstaltung@refuster.ch
DTSTAMP:20260219T153726Z
DESCRIPTION:Im Kirchgarten - hinter der reformierten Kirche\nkleine
  Verpflegungsmöglichkeit - Kennenlernangebot 11.04. kostenfrei
 \nDurchführung bei jeder Witterung\n\nWer: Für alle ab dem jungen
  Erwachsenenalter bis ins hohe Alter (je nach persönlichem Befinden)
 \nWie: Gutes Schuhwerk - wetterangepasste Kleidung\nZeit: Kommen Sie
  dann\, wann es für Sie passt\, und bleiben Sie so lange wie Sie mögen.
 \n\nhttps://www.refuster.ch/bericht/1067\n\nKontakt: Jörg Heiniger\n
 \nWeitere Infos: https://www.refuster.ch/veranstaltung/33722
SUMMARY:Achtsames Bogenschiessen
PRIORITY:5
X-MICROSOFT-CDO-IMPORTANCE:1
CLASS:PUBLIC
END:VEVENT
END:VCALENDAR
