BEGIN:VCALENDAR
PRODID:-//kirchenweb.ch gmbh//veranstaltungsausgabe v2.0//DE
VERSION:2.0
METHOD:PUBLISH
BEGIN:VEVENT
DTSTART:20270528T160000Z
DTEND:20270528T170000Z
LOCATION:Reformierte Kirche Uster\, Zentralstrasse 41\, 8610 Uster
TRANSP:OPAQUE
SEQUENCE:0
UID:33689-veranstaltung@refuster.ch
DTSTAMP:20260211T104015Z
DESCRIPTION:Jugendgottesdienst Abendstern mit anschliessendem Jugendtreff.
  \n\nKontakt: Jugendarbeiter Sascha Dollenmeier\, Pfarrerin Lilly Wyser \n
 \nWeitere Infos: https://www.refuster.ch/veranstaltung/33689
SUMMARY:Abendstern
PRIORITY:5
X-MICROSOFT-CDO-IMPORTANCE:1
CLASS:PUBLIC
END:VEVENT
END:VCALENDAR
