BEGIN:VCALENDAR
PRODID:-//kirchenweb.ch gmbh//veranstaltungsausgabe v2.0//DE
VERSION:2.0
METHOD:PUBLISH
BEGIN:VEVENT
DTSTART:20270416T160000Z
DTEND:20270416T170000Z
LOCATION:Reformierte Kirche Uster\, Zentralstrasse 41\, 8610 Uster
TRANSP:OPAQUE
SEQUENCE:0
UID:33688-veranstaltung@refuster.ch
DTSTAMP:20260211T104010Z
DESCRIPTION:Jugendgottesdienst Abendstern mit anschliessendem Jugendtreff.
  \n\nKontakt: Sozialdiakonin Eliane Würmli\, Jugendarbeiter Sascha
  Dollenmeier \n\nWeitere Infos:
  https://www.refuster.ch/veranstaltung/33688
SUMMARY:Abendstern
PRIORITY:5
X-MICROSOFT-CDO-IMPORTANCE:1
CLASS:PUBLIC
END:VEVENT
END:VCALENDAR
