BEGIN:VCALENDAR
PRODID:-//kirchenweb.ch gmbh//veranstaltungsausgabe v2.0//DE
VERSION:2.0
METHOD:PUBLISH
BEGIN:VEVENT
DTSTART:20260703T173000Z
DTEND:20260703T193000Z
LOCATION:Kirchgemeindehaus Kreuz\, Zentralstrasse 40\, 8610 Uster
TRANSP:OPAQUE
SEQUENCE:0
UID:33683-veranstaltung@refuster.ch
DTSTAMP:20260210T141251Z
DESCRIPTION:Lesefutter für Leib und Seele\n\nNeugierig öffne ich das
  neue Buch\, welches wir in der Gruppe «Gespräche und Meditation»
  gemeinsam ausgesucht haben…Diesmal handelt es sich um «Eden Culture»
  von Johannes Hartl. Auf welchen inneren Weg wird es mich führen? \n\nWir
  sind lesefreudige Menschen\, die sich auf dem Weg in einen gelassenen
  Lebensstil gerne von geistlichen Büchern begleiten lassen. Der Austausch
  entstand aus einer Einführung in die Meditation und gemeinsame kurze
  Stille ist ein Element unseres Zusammenseins. \n\nWir tauschen uns aber
  vor allem aus über das Gelesene und die daraus entstehenden Impulse im
  Alltag. Wie kann ich mich durch Gedanken spiritueller christlicher
  Autoren anregen und wandeln lassen? \n\nSeien auch Sie herzlich
  willkommen jeweils einmal monatlich an einem Freitagabend. \n\nKontakt:
  Vreni Wüthrich\n077 427 00 27\n\n\nWeitere Infos:
  https://www.refuster.ch/veranstaltung/33683
SUMMARY:Gespräch und Meditation
PRIORITY:5
X-MICROSOFT-CDO-IMPORTANCE:1
CLASS:PUBLIC
END:VEVENT
END:VCALENDAR
