BEGIN:VCALENDAR
PRODID:-//kirchenweb.ch gmbh//veranstaltungsausgabe v2.0//DE
VERSION:2.0
METHOD:PUBLISH
BEGIN:VEVENT
DTSTART:20260912T090000Z
DTEND:20260912T093000Z
LOCATION:Schulhaus Niederuster\, \,
TRANSP:OPAQUE
SEQUENCE:0
UID:33679-veranstaltung@refuster.ch
DTSTAMP:20260210T094106Z
DESCRIPTION:Andächtiges am Herbstfest Niederuster\nin Zusammenarbeit mit
  dem Quartierverein Niederuster\n\nKontakt: Eva und Matthias
  Rüsch-Pfister\n\nWeitere Infos:
  https://www.refuster.ch/veranstaltung/33679
SUMMARY:Andächtiges am Herbstfest
PRIORITY:5
X-MICROSOFT-CDO-IMPORTANCE:1
CLASS:PUBLIC
END:VEVENT
END:VCALENDAR
