BEGIN:VCALENDAR
PRODID:-//kirchenweb.ch gmbh//veranstaltungsausgabe v2.0//DE
VERSION:2.0
METHOD:PUBLISH
BEGIN:VEVENT
DTSTART:20260403T123000Z
DTEND:20260403T133000Z
LOCATION:Alters- und Pflegeheim Dietenrain\, Dietenrainweg 15\, 8610 Uster
TRANSP:OPAQUE
SEQUENCE:0
UID:33674-veranstaltung@refuster.ch
DTSTAMP:20260331T072543Z
DESCRIPTION:Wir gehen den Weg auf Ostern hin\, lassen uns stärken durch
  gute Gedanken\, Gemeinschaft\, Musik und das Abendmahl. Wir wollen uns
  bewegen lassen vom Karfreitag\, an dem Gott nicht gescheut hat\, auch die
  Dunkelheit auszuhalten\, damit kein Leben dunkel bleibt.\nOffen für die
  ganze Gemeinde.\n\nKontakt: Manuela Schäfer\n\nWeitere Infos:
  https://www.refuster.ch/veranstaltung/33674
SUMMARY:Gottesdienst im Dietenrain mit Abendmahl
PRIORITY:5
X-MICROSOFT-CDO-IMPORTANCE:1
CLASS:PUBLIC
END:VEVENT
END:VCALENDAR
