BEGIN:VCALENDAR
PRODID:-//kirchenweb.ch gmbh//veranstaltungsausgabe v2.0//DE
VERSION:2.0
METHOD:PUBLISH
BEGIN:VEVENT
DTSTART:20261216T081500Z
DTEND:20261216T090000Z
LOCATION:Kirchgemeindehaus Kreuz\, Zentralstrasse 40\, 8610 Uster
TRANSP:OPAQUE
SEQUENCE:0
UID:33506-veranstaltung@refuster.ch
DTSTAMP:20260305T101647Z
DESCRIPTION:Für Kinder bis zum Kindergarteneintritt in Begleitung einer
  Bezugsperson (Eltern\, Grosseltern\, Paten etc.)\nDurch das Erlernen von
  Liedern\, Versen\, Sprüchen\, Bewegungsspielen\, Kniereitern sowie
  einfachen Tänzen erlebt das Kind einen natürlichen und freudigen Zugang
  zu Klängen\, Rhythmen und Liedern. In einer ungezwungenen Atmosphäre
  werden Fantasie\, Sprache\, Beweglichkeit\, Auffassungsgabe und soziales
  Verhalten spielerisch gefördert. Dadurch wird das Kind in seiner
  ganzheitlichen Entwicklung gestärkt und positiv gefördert.\n\n
 \nKontakt: Maike Maurer-Mildner\n\nWeitere Infos:
  https://www.refuster.ch/veranstaltung/33506
SUMMARY:Eltern Kind Singen
PRIORITY:5
X-MICROSOFT-CDO-IMPORTANCE:1
CLASS:PUBLIC
END:VEVENT
END:VCALENDAR
