BEGIN:VCALENDAR
PRODID:-//kirchenweb.ch gmbh//veranstaltungsausgabe v2.0//DE
VERSION:2.0
METHOD:PUBLISH
BEGIN:VEVENT
DTSTART:20261110T130000Z
DTEND:20261110T170000Z
LOCATION:Kirchgemeindehaus Kreuz\, Zentralstrasse 40\, 8610 Uster
TRANSP:OPAQUE
SEQUENCE:0
UID:33336-veranstaltung@refuster.ch
DTSTAMP:20260107T155732Z
DESCRIPTION:Kontakt: Jörg Heiniger\n\nWeitere Infos:
  https://www.refuster.ch/veranstaltung/33336
SUMMARY:Kerzenziehen Bienenwachs
PRIORITY:5
X-MICROSOFT-CDO-IMPORTANCE:1
CLASS:PUBLIC
END:VEVENT
END:VCALENDAR
