BEGIN:VCALENDAR
PRODID:-//kirchenweb.ch gmbh//veranstaltungsausgabe v2.0//DE
VERSION:2.0
METHOD:PUBLISH
BEGIN:VEVENT
DTSTART:20261218T083000Z
DTEND:20261218T100000Z
LOCATION:Kirchgemeindehaus Kreuz\, Zentralstrasse 40\, 8610 Uster
TRANSP:OPAQUE
SEQUENCE:0
UID:33309-veranstaltung@refuster.ch
DTSTAMP:20260107T131127Z
DESCRIPTION:Die Türen der Chinderinsle im Parterre des
  Kirchgemeindehauses Kreuz werden jeden Freitag für Kinder von null bis
  fünf Jahren mit ihren Begleitpersonen geöffnet.\nWillkommen sind alle
  Eltern\, Grosseltern\, Gotti oder Götti\, die gerne mit ihren Kindern
  spielen und mit den kleinen Menschen die Welt ent-decken.\nWährend sich
  die Grossen miteinander austauschen und die alltäglichen Fragen
  diskutieren\, können die Kinder spielen und neue Freundschaften
  schliessen.\n\n\nKontakt: Maike Maurer\n\nWeitere Infos:
  https://www.refuster.ch/veranstaltung/33309
SUMMARY:Chrabbelgruppe
PRIORITY:5
X-MICROSOFT-CDO-IMPORTANCE:1
CLASS:PUBLIC
END:VEVENT
END:VCALENDAR
