BEGIN:VCALENDAR
PRODID:-//kirchenweb.ch gmbh//veranstaltungsausgabe v2.0//DE
VERSION:2.0
METHOD:PUBLISH
BEGIN:VEVENT
DTSTART:20260603T120000Z
DTEND:20260603T143000Z
LOCATION:Kirchgemeindehaus Greifensee\, Im Städli 2\, 8606 Greifensee
TRANSP:OPAQUE
SEQUENCE:0
UID:33213-veranstaltung@refuster.ch
DTSTAMP:20260105T133703Z
DESCRIPTION:Der GRINA-Träff wird von den evangelisch-reformierten 
 \nKirchgemeinden Uster und Greifensee angeboten und ist \nfür alle
  Interessierten ab 50+ offen. Mittwochnachmittag von 14.00- 16.30 Uhr\n
 \nGRINA-Träff bedeutet: \nGlustige Runde In Nachbarschaftlicher
  Atmosphäre\n\nFür Kaffee und Kuchen an den Anlässen wird eine Kollekte
  erhoben.\nAuf Anfrage bieten wir gerne einen Fahrdienst an.\n\nWir freuen
  uns auf den lebendigen Nachbarschaftsaustausch mit reger Teilnahme.\nMena
  Ramseyer\, Diakonin aus Greifensee und Beatrice Spörri aus Uster\n\n\n
 \nKontakt: Béatrice Spörri\nBrigitte Ulrich\n\nWeitere Infos:
  https://www.refuster.ch/veranstaltung/33213
SUMMARY:Grina Träff
PRIORITY:5
X-MICROSOFT-CDO-IMPORTANCE:1
CLASS:PUBLIC
END:VEVENT
END:VCALENDAR
