BEGIN:VCALENDAR
PRODID:-//kirchenweb.ch gmbh//veranstaltungsausgabe v2.0//DE
VERSION:2.0
METHOD:PUBLISH
BEGIN:VEVENT
DTSTART:20261021T120000Z
DTEND:20261021T143000Z
LOCATION:Klairs Vereinslokal\, Bühlstrasse 16\, 8606 Nänikon
TRANSP:OPAQUE
SEQUENCE:0
UID:33210-veranstaltung@refuster.ch
DTSTAMP:20260105T134011Z
DESCRIPTION:Der GRINA-Träff wird von den evangelisch-reformierten 
 \nKirchgemeinden Uster und Greifensee angeboten und ist \nfür alle
  Interessierten ab 50+ offen. Mittwochnachmittag von 14.00- 16.30 Uhr\n
 \nGRINA-Träff bedeutet: \nGlustige Runde In Nachbarschaftlicher
  Atmosphäre\n\nFür Kaffee und Kuchen an den Anlässen wird eine Kollekte
  erhoben.\nAuf Anfrage bieten wir gerne einen Fahrdienst an.\n\nWir freuen
  uns auf den lebendigen Nachbarschaftsaustausch mit reger Teilnahme.\nMena
  Ramseyer\, Diakonin Greifensee und Beatrice Spörri aus Uster\n\n
 \nKontakt: Béatrice Spörri\n\nWeitere Infos:
  https://www.refuster.ch/veranstaltung/33210
SUMMARY:Grina Träff
PRIORITY:5
X-MICROSOFT-CDO-IMPORTANCE:1
CLASS:PUBLIC
END:VEVENT
END:VCALENDAR
