BEGIN:VCALENDAR
PRODID:-//kirchenweb.ch gmbh//veranstaltungsausgabe v2.0//DE
VERSION:2.0
METHOD:PUBLISH
BEGIN:VEVENT
DTSTART:20261019T120000Z
DTEND:20261019T140000Z
LOCATION:Kirchgemeindehaus Kreuz\, Zentralstrasse 40\, 8610 Uster
TRANSP:OPAQUE
SEQUENCE:0
UID:32908-veranstaltung@refuster.ch
DTSTAMP:20251210T103341Z
DESCRIPTION:Montagnachmittag\, 14 – 16 Uhr\nim Raum Sonne\,
  Kirchgemeindehaus\n\nUnter der Leitung von Mirjam Volkart\,
  Handarbeitslehrerin und begeisterte Strickerin\n\nIn geselliger Runde
  zusammen Stricken und Kaffee trinken.\nWären sie froh um fachliche
  Unterstützung? Egal wie gut ihre Kenntnisse im Stricken sind. Alle\,
  auch Neueinsteiger und     Neueinsteigerinnen\, oder Häkler und
  Häklerinnen sind herzlich willkommen. \nEs wird ein freiwilliger
  Unkostenbeitrag erhoben.\n\n\nKontakt: Béatrice Spörri\nMirjam
  Volkart\, Mail: wv@specogna.com\n\nWeitere Infos:
  https://www.refuster.ch/veranstaltung/32908
SUMMARY:Strick- Treff
PRIORITY:5
X-MICROSOFT-CDO-IMPORTANCE:1
CLASS:PUBLIC
END:VEVENT
END:VCALENDAR
