BEGIN:VCALENDAR
PRODID:-//kirchenweb.ch gmbh//veranstaltungsausgabe v2.0//DE
VERSION:2.0
METHOD:PUBLISH
BEGIN:VEVENT
DTSTART:20260611T120000Z
DTEND:20260611T140000Z
LOCATION:Kirchgemeindehaus Kreuz\, Zentralstrasse 40\, 8610 Uster
TRANSP:OPAQUE
SEQUENCE:0
UID:32809-veranstaltung@refuster.ch
DTSTAMP:20251215T142821Z
DESCRIPTION:Gemeinsam Zeit verbringen\, über ein Thema philosophieren und
  feiner Dessert geniessen - das ist unser Frauentreff. \n\n\n\nKontakt:
  Ursula Streiff\n\nWeitere Infos:
  https://www.refuster.ch/veranstaltung/32809
SUMMARY:Frauentreff
PRIORITY:5
X-MICROSOFT-CDO-IMPORTANCE:1
CLASS:PUBLIC
END:VEVENT
END:VCALENDAR
