BEGIN:VCALENDAR
PRODID:-//kirchenweb.ch gmbh//veranstaltungsausgabe v2.0//DE
VERSION:2.0
METHOD:PUBLISH
BEGIN:VEVENT
DTSTART:20260710T123000Z
DTEND:20260710T133000Z
LOCATION:Alters- und Pflegeheim Dietenrain\, Dietenrainweg 15\, 8610 Uster
TRANSP:OPAQUE
SEQUENCE:0
UID:32762-veranstaltung@refuster.ch
DTSTAMP:20251203T091607Z
DESCRIPTION:Wer Gott liebt\, gleicht einer immergrünen Palme\, er wird
  mächtig wie eine Zeder auf dem Libanongebirge\n\nKontakt: Béatrice
  Spörri\n\nWeitere Infos: https://www.refuster.ch/veranstaltung/32762
SUMMARY:Gottesdienst im Dietenrain
PRIORITY:5
X-MICROSOFT-CDO-IMPORTANCE:1
CLASS:PUBLIC
END:VEVENT
END:VCALENDAR
