BEGIN:VCALENDAR
PRODID:-//kirchenweb.ch gmbh//veranstaltungsausgabe v2.0//DE
VERSION:2.0
METHOD:PUBLISH
BEGIN:VEVENT
DTSTART:20260403T140000Z
DTEND:20260403T150000Z
LOCATION:Alters- und Pflegeheim Im Grund\, Wagerenstr. 20\, 8610 Uster
TRANSP:OPAQUE
SEQUENCE:0
UID:32760-veranstaltung@refuster.ch
DTSTAMP:20260413T131803Z
DESCRIPTION:Wir gehen den Weg auf Ostern hin\, lassen uns stärken durch
  gute Gedanken\, Gemeinschaft\, Musik und das Abendmahl. Wir wollen uns
  bewegen lassen vom Karfreitg\, an dem Gott nicht gescheut hat\, auch die
  Dunkelheit auszuhalten\, damit kein Leben dunkel bleibt.\nOffen für die
  ganze Gemeinde.\n\nKontakt: Manuela Schäfer\n\nWeitere Infos:
  https://www.refuster.ch/veranstaltung/32760
SUMMARY:Gottesdienst im Grund mit Abendmahl
PRIORITY:5
X-MICROSOFT-CDO-IMPORTANCE:1
CLASS:PUBLIC
END:VEVENT
END:VCALENDAR
