BEGIN:VCALENDAR
PRODID:-//kirchenweb.ch gmbh//veranstaltungsausgabe v2.0//DE
VERSION:2.0
METHOD:PUBLISH
BEGIN:VEVENT
DTSTART:20261214T180000Z
DTEND:20261214T190000Z
LOCATION:Reformierte Kirche Uster\, Zentralstrasse 41\, 8610 Uster
TRANSP:OPAQUE
SEQUENCE:0
UID:32724-veranstaltung@refuster.ch
DTSTAMP:20251121T081318Z
DESCRIPTION:Kontakt: Alex Stamm\n\nWeitere Infos:
  https://www.refuster.ch/veranstaltung/32724
SUMMARY:Schüleradventsingen 2026
PRIORITY:5
X-MICROSOFT-CDO-IMPORTANCE:1
CLASS:PUBLIC
END:VEVENT
END:VCALENDAR
