BEGIN:VCALENDAR
PRODID:-//kirchenweb.ch gmbh//veranstaltungsausgabe v2.0//DE
VERSION:2.0
METHOD:PUBLISH
BEGIN:VEVENT
DTSTART:20260712T080000Z
DTEND:20260712T090000Z
LOCATION:Forum Spital Uster\, Brunnenstrasse 42\, 8610 Uster
TRANSP:OPAQUE
SEQUENCE:0
UID:32715-veranstaltung@refuster.ch
DTSTAMP:20260306T075441Z
DESCRIPTION:Kontakt: Pfrn. Christine Wyttenbach\n\nWeitere Infos:
  https://www.refuster.ch/veranstaltung/32715
SUMMARY:Ökum. Spitalgottesdienst
PRIORITY:5
X-MICROSOFT-CDO-IMPORTANCE:1
CLASS:PUBLIC
END:VEVENT
END:VCALENDAR
