BEGIN:VCALENDAR
PRODID:-//kirchenweb.ch gmbh//veranstaltungsausgabe v2.0//DE
VERSION:2.0
METHOD:PUBLISH
BEGIN:VEVENT
DTSTART:20260419T080000Z
DTEND:20260419T090000Z
LOCATION:Forum Spital Uster\, Brunnenstrasse 42\, 8610 Uster
TRANSP:OPAQUE
SEQUENCE:0
UID:32712-veranstaltung@refuster.ch
DTSTAMP:20260408T135126Z
DESCRIPTION:«Aufblühendes Leben»\n \nAn Ostern haben wir über das
  Geheimnis des Lebens nachgedacht…. und wir denken weiter. \nWas macht
  Leben aus? Wann rede ich von erfülltem Leben\, von glücklichem\,
  zufriedenem Leben? Einer hat von sich gesagt\, dass er das Leben hütet
  wie ein guter Hirte\, wie ein Freund an unserer Seite. – \n \nSchön\,
  wenn wir gemeinsam staunen können über das\, was blüht und wächst und
  über den\, der uns in all dem begleitet. \nSeien sie herzlichst
  willkommen zum Gottesdienst im Spital. Wir feiern um 10.00 Uhr im Forum.
  Sie können der Beschilderung folgen. \n\nLea Kyburz und Miriam Mager
  werden den Gottesdienst mit verschiedenen Blockflöten und Klavier
  mitgestalten. \n\nSeien Sie herzlichst willkommen.\n\nChristine
  Wyttenbach\, Pfrn. und Spitalseelsorgerin\n\n\n\n\nKontakt: Pfrn.
  Christine Wyttenbach\n\nWeitere Infos:
  https://www.refuster.ch/veranstaltung/32712
SUMMARY:Ökum. Spitalgottesdienst
PRIORITY:5
X-MICROSOFT-CDO-IMPORTANCE:1
CLASS:PUBLIC
END:VEVENT
END:VCALENDAR
