BEGIN:VCALENDAR
PRODID:-//kirchenweb.ch gmbh//veranstaltungsausgabe v2.0//DE
VERSION:2.0
METHOD:PUBLISH
BEGIN:VEVENT
DTSTART:20260607T080000Z
DTEND:20260607T090000Z
LOCATION:Forum Spital Uster\, Brunnenstrasse 42\, 8610 Uster
TRANSP:OPAQUE
SEQUENCE:0
UID:32704-veranstaltung@refuster.ch
DTSTAMP:20251121T075632Z
DESCRIPTION:Kontakt: Ursula Mohr\, Pastoralassistentin\n\nWeitere Infos:
  https://www.refuster.ch/veranstaltung/32704
SUMMARY:Ökum. Spitalgottesdienst
PRIORITY:5
X-MICROSOFT-CDO-IMPORTANCE:1
CLASS:PUBLIC
END:VEVENT
END:VCALENDAR
