BEGIN:VCALENDAR
PRODID:-//kirchenweb.ch gmbh//veranstaltungsausgabe v2.0//DE
VERSION:2.0
METHOD:PUBLISH
BEGIN:VEVENT
DTSTART:20261213T160000Z
DTEND:20261213T170000Z
LOCATION:Reformierte Kirche Uster\, Zentralstrasse \, 8610 Uster
TRANSP:OPAQUE
SEQUENCE:0
UID:32636-veranstaltung@refuster.ch
DTSTAMP:20251222T110709Z
DESCRIPTION:\n\nKontakt: Maike Maurer\n\nWeitere Infos:
  https://www.refuster.ch/veranstaltung/32636
SUMMARY:Weihnachtsspiel  Aufführung
PRIORITY:5
X-MICROSOFT-CDO-IMPORTANCE:1
CLASS:PUBLIC
END:VEVENT
END:VCALENDAR
