BEGIN:VCALENDAR
PRODID:-//kirchenweb.ch gmbh//veranstaltungsausgabe v2.0//DE
VERSION:2.0
METHOD:PUBLISH
BEGIN:VEVENT
DTSTART:20270207T090000Z
DTEND:20270207T100000Z
LOCATION:Stadthofsaal Uster\, Theaterstrasse 1\, 8610 Uster
TRANSP:OPAQUE
SEQUENCE:0
UID:32568-veranstaltung@refuster.ch
DTSTAMP:20251111T073125Z
DESCRIPTION:Kontakt: Pfrn. Lilly Wyser\n\nWeitere Infos:
  https://www.refuster.ch/veranstaltung/32568
SUMMARY:Allianzgottesdienst
PRIORITY:5
X-MICROSOFT-CDO-IMPORTANCE:1
CLASS:PUBLIC
END:VEVENT
END:VCALENDAR
