BEGIN:VCALENDAR
PRODID:-//kirchenweb.ch gmbh//veranstaltungsausgabe v2.0//DE
VERSION:2.0
METHOD:PUBLISH
BEGIN:VEVENT
DTSTART:20260708T133000Z
DTEND:20260708T141500Z
LOCATION:Stadtparkresidenz\, Palmengarten (EG)\, Theaterstr. 4\, 8610
  Uster
TRANSP:OPAQUE
SEQUENCE:0
UID:32487-veranstaltung@refuster.ch
DTSTAMP:20251023T145808Z
DESCRIPTION:Ökumenische Andacht - Gute Worte und Musik in der Wochenmitte
 \n\nKontakt: Manuela Schäfer\n\nWeitere Infos:
  https://www.refuster.ch/veranstaltung/32487
SUMMARY:Rast in der Woche
PRIORITY:5
X-MICROSOFT-CDO-IMPORTANCE:1
CLASS:PUBLIC
END:VEVENT
END:VCALENDAR
