BEGIN:VCALENDAR
PRODID:-//kirchenweb.ch gmbh//veranstaltungsausgabe v2.0//DE
VERSION:2.0
METHOD:PUBLISH
BEGIN:VEVENT
DTSTART:20261117T153000Z
DTEND:20261117T163000Z
LOCATION:Tertianum Brunnehof\, Industriestrasse 10\,
TRANSP:OPAQUE
SEQUENCE:0
UID:32456-veranstaltung@refuster.ch
DTSTAMP:20251015T164452Z
DESCRIPTION:Kontakt: Pfrn. Sabine Stückelberger\n\nWeitere Infos:
  https://www.refuster.ch/veranstaltung/32456
SUMMARY:Gottesdienst Seniorenresidenz Tertianum
PRIORITY:5
X-MICROSOFT-CDO-IMPORTANCE:1
CLASS:PUBLIC
END:VEVENT
END:VCALENDAR
