BEGIN:VCALENDAR
PRODID:-//kirchenweb.ch gmbh//veranstaltungsausgabe v2.0//DE
VERSION:2.0
METHOD:PUBLISH
BEGIN:VEVENT
DTSTART:20270606T073000Z
DTEND:20270606T083000Z
LOCATION:Reformierte Kirche Uster\, Zentralstrasse 41\, 8610 Uster
TRANSP:OPAQUE
SEQUENCE:0
UID:32393-veranstaltung@refuster.ch
DTSTAMP:20260306T095939Z
DESCRIPTION:Kontakt: Pfrn. Lilly Wyser\n\nWeitere Infos:
  https://www.refuster.ch/veranstaltung/32393
SUMMARY:Konfirmations-Gottesdienst Pfrn. Lilly Wyser
PRIORITY:5
X-MICROSOFT-CDO-IMPORTANCE:1
CLASS:PUBLIC
END:VEVENT
END:VCALENDAR
