BEGIN:VCALENDAR
PRODID:-//kirchenweb.ch gmbh//veranstaltungsausgabe v2.0//DE
VERSION:2.0
METHOD:PUBLISH
BEGIN:VEVENT
DTSTART:20270606T093000Z
DTEND:20270606T103000Z
LOCATION:Reformierte Kirche Uster\, Zentralstrasse 41\, 8610 Uster
TRANSP:OPAQUE
SEQUENCE:0
UID:32392-veranstaltung@refuster.ch
DTSTAMP:20260306T100017Z
DESCRIPTION:Kontakt: Pfrn. Bettina Wiesendanger\n\nWeitere Infos:
  https://www.refuster.ch/veranstaltung/32392
SUMMARY:Konfirmations-Gottesdienst Pfrn. Bettina Wiesendanger
PRIORITY:5
X-MICROSOFT-CDO-IMPORTANCE:1
CLASS:PUBLIC
END:VEVENT
END:VCALENDAR
