BEGIN:VCALENDAR
PRODID:-//kirchenweb.ch gmbh//veranstaltungsausgabe v2.0//DE
VERSION:2.0
METHOD:PUBLISH
BEGIN:VEVENT
DTSTART:20260906T160000Z
DTEND:20260906T173000Z
LOCATION:Cevi Haus Greifensee \, Sandbüelstrasse 45 \, 8606 Greifensee
TRANSP:OPAQUE
SEQUENCE:0
UID:32028-veranstaltung@refuster.ch
DTSTAMP:20251006T160244Z
DESCRIPTION:Wir feiern mit unseren Freunden aus den katholischen Kirchen
  Uster und Greifensee und den Reformierten aus Greifensee drei Mal pro
  Jahr Jugendgottesdienste!\nWir sind jedes Mal in einer anderen der vier
  Kirchen. Mit dabei jeweils eine coole Band! Der Gottesdienst wird von und
  mit Jugendlichen gestaltet. Etwas Feines zu Essen & Getränke gibt es im
  Anschluss gratis für alle\, die noch verweilen wollen. \n\n\nGemeinsame
  Anreise\n"Wotsch DU oder wännd IHR in Jugendgottesdienst cho\, aber nöd
  allei?" \n"Keis Problem!" Für alle Jugendgottsdienste\, welche nicht in
  der ref. Kirche Uster stattfinden\, kommunizieren wir einen Treffpunkt
  für alle\, die gemeinsam als Gruppe zum Gottesdienst gehen möchten.
  Prüfe am Tag des Gottesdienstes den Agendaeintrag hier erneut und du
  findest Ort und Zeit für den Treffpunkt für die gemeinsamen Anreise. \n
 \nKontakt: Eliane Würmli\n\nWeitere Infos:
  https://www.refuster.ch/veranstaltung/32028
SUMMARY:Ökumenischer Jugendgottesdienst
PRIORITY:5
X-MICROSOFT-CDO-IMPORTANCE:1
CLASS:PUBLIC
END:VEVENT
END:VCALENDAR
