BEGIN:VCALENDAR
PRODID:-//kirchenweb.ch gmbh//veranstaltungsausgabe v2.0//DE
VERSION:2.0
METHOD:PUBLISH
BEGIN:VEVENT
DTSTART:20260524T080000Z
DTEND:20260524T090000Z
LOCATION:Reformierte Kirche Uster\, Zentralstrasse 41\, 8610 8610 Uster
TRANSP:OPAQUE
SEQUENCE:0
UID:31747-veranstaltung@refuster.ch
DTSTAMP:20260412T081236Z
DESCRIPTION:«Pfingsten\, das liebliche Fest\, ist gekommen.»\nSo hat vor
  vielen Jahren Goethe in seinem «Reinecke Fuchs» gedichtet. Pfingsten:
  das Fest des Heiligen Geistes. Wir feiern\, dass Gott Menschen begeistert
  mit Freude am Leben\, mit Mut in Trauer\, mit Kraft gegen die
  Verzweiflung. Gottes Geistkraft verbindet Menschen und Gott gibt mit
  seinem Lebensatem etwas von sich selbst in uns hinein\, Phantasie und
  Liebe. \nDas Symbol der Pfingsterzählung dafür ist neben dem Wind das
  Feuer. Damit wird das für viele so abstrakte Pfingstfest ganz konkret:
  Der Funke springt über. Wir sind Feuer und Flamme und zündeln mit der
  Liebe. Im Gottesdienst feiern wir Abendmahl und teilen diese Freude aus.
 \n\n\nje nach Witterung: Apéro oder Chilekafi\n
 \nhttps://www.youtube.com/channel/UC-IpHezTIP50KgeMFogqYjA\n
 \nhttps://www.refuster.ch/Gemeindegottesdienst\n\n\nKontakt: Pfrn. Manuela
  Schäfer\n\nWeitere Infos: https://www.refuster.ch/veranstaltung/31747
SUMMARY:Pfingstgottesdienst mit Abendmahl
PRIORITY:5
X-MICROSOFT-CDO-IMPORTANCE:1
CLASS:PUBLIC
END:VEVENT
END:VCALENDAR
