BEGIN:VCALENDAR
PRODID:-//kirchenweb.ch gmbh//veranstaltungsausgabe v2.0//DE
VERSION:2.0
METHOD:PUBLISH
BEGIN:VEVENT
DTSTART:20260405T080000Z
DTEND:20260405T090000Z
LOCATION:Reformierte Kirche Uster\, Zentralstrasse 41\, 8610 8610 Uster
TRANSP:OPAQUE
SEQUENCE:0
UID:31744-veranstaltung@refuster.ch
DTSTAMP:20260403T124116Z
DESCRIPTION:Weltenangstüberwindung\nAuch wenn wir uns ja recht gut
  organisiert und eingerichtet haben in dieser Welt\, ganz behaglich ist es
  uns nun doch nicht immer zumute. An zu vielen Ecken in der Welt brennt
  es. Unbestimmtheiten\, Existenzängste und Befürchtungen\, die uns aus
  dem Hinterhalt anspringen\, verunsichern. Auch Osterhasen vermögen uns
  dabei keine allzu starke Sicherheit zu vermitteln.\nDie grosse
  Weltenangst begleitet die Menschheit seit Urzeiten. Elsbetha Bünzli
  wurde beklagenswertes Opfer davon. Auch unser Freund Abderhalden\, der
  Unbehauste\, erzählt mir bei jedem Besuch davon\, von dieser schampar
  verrückten\, Angst machenden Weltsituation. Und die biblischen
  Erzählungen berichten davon seit Anbeginn der Menschheit. Ihr Kernstück
  ist aber\, wie sie werbend von der Überwindung der bedrückenden Angst
  erzählen.\nIm Johannesevangelium sagt Jesus von Nazareth: «In der Welt
  habt ihr Angst; aber seid getrost\, ich habe die Welt überwunden.» Joh
  16\,33 \n\n\n\nhttps://www.youtube.com/channel/UC-IpHezTIP50KgeMFogqYjA\n
 \nhttps://www.refuster.ch/Gemeindegottesdienst\n\n\nKontakt: Pfr. Matthias
  Rüsch\n\nWeitere Infos: https://www.refuster.ch/veranstaltung/31744
SUMMARY:Oster-Gottesdienst mit Abendmahl
PRIORITY:5
X-MICROSOFT-CDO-IMPORTANCE:1
CLASS:PUBLIC
END:VEVENT
END:VCALENDAR
