BEGIN:VCALENDAR
PRODID:-//kirchenweb.ch gmbh//veranstaltungsausgabe v2.0//DE
VERSION:2.0
METHOD:PUBLISH
BEGIN:VEVENT
DTSTART:20260521T170000Z
DTEND:20260521T210000Z
LOCATION:Jugendtreff Bumerang\, Zentralstrasse 38\, 8610 Uster
TRANSP:OPAQUE
SEQUENCE:0
UID:31623-veranstaltung@refuster.ch
DTSTAMP:20250926T130922Z
DESCRIPTION:Wir uns regelmässig im Bumerang. Eliane oder Sascha bereiten
  jeweils einen kurzen christlichen Input vor und die Gestaltung der
  restlichen Zeit und der Zukunft möchten wir mit euch gemeinsam
  vornehmen. Talks Shows\, Dart-Meisterschaften\, Pingpong\,
  Tischfussball\, Mario Kart\, Moovie-Nights\, gemeinsames Kochen\,
  Ausgehen\, Gummiböötle\, Karaoke Abend\, gemütliches Zusammensein\,
  einfach reden\, beten\, singen\, ums Feuer sitzen... Gerne könnt ihr
  Ideen einbringen und mitgestalten!\n\nKontakt: Sascha Dollenmeier\nEliane
  Würmli\n\nWeitere Infos: https://www.refuster.ch/veranstaltung/31623
SUMMARY:Bumi Treff
PRIORITY:5
X-MICROSOFT-CDO-IMPORTANCE:1
CLASS:PUBLIC
END:VEVENT
END:VCALENDAR
